BEGIN:VCALENDAR
VERSION:2.0
PRODID:-//hacksw/handcal//NONSGML v1.0//EN
CALSCALE:GREGORIAN
BEGIN:VEVENT
UID:69e65fb135ace
DTSTART:20181104T203000Z
DTSTAMP:20260420T171737Z
DTEND:20181105T203000Z
LOCATION:Madrid
DESCRIPTION:Nano Tenchnology Event
URL;VALUE=URI:https://analysis.pharmaceuticalconferences.com/
SUMMARY:18th Annual Pharmaceutical And Chemical Analysis Congress
END:VEVENT
END:VCALENDAR
