BEGIN:VCALENDAR
VERSION:2.0
PRODID:-//hacksw/handcal//NONSGML v1.0//EN
CALSCALE:GREGORIAN
BEGIN:VEVENT
UID:69e65ffd5c3c8
DTSTART:20181107T203000Z
DTSTAMP:20260420T171853Z
DTEND:20181108T203000Z
LOCATION:Auckland
DESCRIPTION:Nano Tenchnology Event
URL;VALUE=URI:https://drugformulation.pharmaceuticalconferences.com/
SUMMARY:17th World Congress on  Drug Formulation & Drug Delivery
END:VEVENT
END:VCALENDAR
