BEGIN:VCALENDAR
VERSION:2.0
PRODID:-//hacksw/handcal//NONSGML v1.0//EN
CALSCALE:GREGORIAN
BEGIN:VEVENT
UID:69e639e0d73e6
DTSTART:20180927T203000Z
DTSTAMP:20260420T143616Z
DTEND:20180928T203000Z
LOCATION:Montreal
DESCRIPTION:Nano Tenchnology Event
URL;VALUE=URI:https://pharmacy.pharmaceuticalconferences.com/
SUMMARY:11th World Congress on  Pharmaceutical Sciences
END:VEVENT
END:VCALENDAR
