BEGIN:VCALENDAR
VERSION:2.0
PRODID:-//hacksw/handcal//NONSGML v1.0//EN
CALSCALE:GREGORIAN
BEGIN:VEVENT
UID:69e639c8b8e60
DTSTART:20181007T203000Z
DTSTAMP:20260420T143552Z
DTEND:20181008T203000Z
LOCATION:Osaka
DESCRIPTION:Nano Tenchnology Event
URL;VALUE=URI:https://nanomedicine.conferenceseries.com/
SUMMARY:18th International Conference and Exhibition on  Nanomedicine
 e and Nanotechnology in Health Care
END:VEVENT
END:VCALENDAR
