BEGIN:VCALENDAR
VERSION:2.0
PRODID:-//hacksw/handcal//NONSGML v1.0//EN
CALSCALE:GREGORIAN
BEGIN:VEVENT
UID:69e65fe75d5b8
DTSTART:20181017T203000Z
DTSTAMP:20260420T171831Z
DTEND:20181018T203000Z
LOCATION:Warsaw
DESCRIPTION:Nano Tenchnology Event
URL;VALUE=URI:https://drug-discovery.pharmaceuticalconferences.com/
SUMMARY:4th International Conference on  Drug Discovery and Advanced 
  Drug Delivery Systems & Technologies
END:VEVENT
END:VCALENDAR
