BEGIN:VCALENDAR
VERSION:2.0
PRODID:-//hacksw/handcal//NONSGML v1.0//EN
CALSCALE:GREGORIAN
BEGIN:VEVENT
UID:69e65fb153e56
DTSTART:20181017T203000Z
DTSTAMP:20260420T171737Z
DTEND:20181018T203000Z
LOCATION:Dubai
DESCRIPTION:Nano Tenchnology Event
URL;VALUE=URI:https://pharma-medicinalchemistry.conferenceseries.com/
SUMMARY:18th International Conference on  Medicinal and Pharmaceutica
 al Chemistry
END:VEVENT
END:VCALENDAR
