BEGIN:VCALENDAR
VERSION:2.0
PRODID:-//hacksw/handcal//NONSGML v1.0//EN
CALSCALE:GREGORIAN
BEGIN:VEVENT
UID:69e639e21ce12
DTSTART:20180923T203000Z
DTSTAMP:20260420T143618Z
DTEND:20180925T203000Z
LOCATION:Chicago
DESCRIPTION:Nano Tenchnology Event
URL;VALUE=URI:https://drugdelivery.pharmaceuticalconferences.com/
SUMMARY:12th World Drug Delivery Summit
END:VEVENT
END:VCALENDAR
