BEGIN:VCALENDAR
VERSION:2.0
PRODID:-//hacksw/handcal//NONSGML v1.0//EN
CALSCALE:GREGORIAN
BEGIN:VEVENT
UID:69e624a40c28a
DTSTART:20180916T193000Z
DTSTAMP:20260420T130540Z
DTEND:20180917T193000Z
LOCATION:Philadelphia
DESCRIPTION:Nano Tenchnology Event
URL;VALUE=URI:https://formulations.pharmaceuticalconferences.com/
SUMMARY:15th International Conference on  Pharmaceutical Formulations
 s & Drug Delivery
END:VEVENT
END:VCALENDAR
