BEGIN:VCALENDAR
VERSION:2.0
PRODID:-//hacksw/handcal//NONSGML v1.0//EN
CALSCALE:GREGORIAN
BEGIN:VEVENT
UID:69e624e75f423
DTSTART:20180919T193000Z
DTSTAMP:20260420T130647Z
DTEND:20180921T203000Z
LOCATION:Prague
DESCRIPTION:Nano Tenchnology Event
URL;VALUE=URI:https://pharmaceutics.annualcongress.com/
SUMMARY:17th Annual Congress on  Pharmaceutics & Drug Delivery System
 ms
END:VEVENT
END:VCALENDAR
