BEGIN:VCALENDAR
VERSION:2.0
PRODID:-//hacksw/handcal//NONSGML v1.0//EN
CALSCALE:GREGORIAN
BEGIN:VEVENT
UID:69e674cf09636
DTSTART:20181209T203000Z
DTSTAMP:20260420T184743Z
DTEND:20181210T203000Z
LOCATION:Dubai
DESCRIPTION:Nano Tenchnology Event
URL;VALUE=URI:https://drug-chemistry.pharmaceuticalconferences.com/
SUMMARY:20th World Conference on  Pharmaceutical Chemistry and Drug D
 Design
END:VEVENT
END:VCALENDAR
