BEGIN:VCALENDAR
VERSION:2.0
PRODID:-//hacksw/handcal//NONSGML v1.0//EN
CALSCALE:GREGORIAN
BEGIN:VEVENT
UID:69e674d3cf0a1
DTSTART:20181209T203000Z
DTSTAMP:20260420T184747Z
DTEND:20181210T203000Z
LOCATION:Dubai
DESCRIPTION:Nano Tenchnology Event
URL;VALUE=URI:
SUMMARY:10th Annual Congress on  Drug Formulation & Analytical Techni
 iques
END:VEVENT
END:VCALENDAR
