BEGIN:VCALENDAR
VERSION:2.0
PRODID:-//hacksw/handcal//NONSGML v1.0//EN
CALSCALE:GREGORIAN
BEGIN:VEVENT
UID:69e5fe004c01a
DTSTART:20180805T193000Z
DTSTAMP:20260420T102048Z
DTEND:20180806T193000Z
LOCATION:Osaka
DESCRIPTION:Nano Tenchnology Event
URL;VALUE=URI:https://biomedicine.conferenceseries.com/
SUMMARY:International Conference on  Biomedicine & Pharmacotherapy
END:VEVENT
END:VCALENDAR
