BEGIN:VCALENDAR
VERSION:2.0
PRODID:-//hacksw/handcal//NONSGML v1.0//EN
CALSCALE:GREGORIAN
BEGIN:VEVENT
UID:69e5ea0386d1c
DTSTART:20180717T193000Z
DTSTAMP:20260420T085531Z
DTEND:20180719T193000Z
LOCATION:Melbourne
DESCRIPTION:Nano Tenchnology Event
URL;VALUE=URI:https://asiapacific.pharmaceuticalconferences.com/
SUMMARY:5th Asia-Pacific Pharma Congress
END:VEVENT
END:VCALENDAR
