BEGIN:VCALENDAR
VERSION:2.0
PRODID:-//hacksw/handcal//NONSGML v1.0//EN
CALSCALE:GREGORIAN
BEGIN:VEVENT
UID:69e5ea030c95e
DTSTART:20180715T193000Z
DTSTAMP:20260420T085531Z
DTEND:20180716T193000Z
LOCATION:Sydney
DESCRIPTION:Nano Tenchnology Event
URL;VALUE=URI:https://advancedpharmacy.pharmaceuticalconferences.com/
SUMMARY:World Congress on  Advanced Pharmacy and Clinical Research
END:VEVENT
END:VCALENDAR
