BEGIN:VCALENDAR
VERSION:2.0
PRODID:-//hacksw/handcal//NONSGML v1.0//EN
CALSCALE:GREGORIAN
BEGIN:VEVENT
UID:69e68ff5e6d74
DTSTART:20190317T203000Z
DTSTAMP:20260420T204333Z
DTEND:20190318T203000Z
LOCATION:Paris
DESCRIPTION:Nano Tenchnology Event
URL;VALUE=URI:https://nanotechnology.pharmaceuticalconferences.com/
SUMMARY:15th International Conference and Exhibition on  Nanomedicine
 e and Pharmaceutical Nanotechnology
END:VEVENT
END:VCALENDAR
