BEGIN:VCALENDAR
VERSION:2.0
PRODID:-//hacksw/handcal//NONSGML v1.0//EN
CALSCALE:GREGORIAN
BEGIN:VEVENT
UID:69e64e762fe4b
DTSTART:20181017T203000Z
DTSTAMP:20260420T160406Z
DTEND:20181019T203000Z
LOCATION:Warsaw
DESCRIPTION:Nano Tenchnology Event
URL;VALUE=URI:https://world.pharmaceuticalconferences.com/
SUMMARY:18th World Pharma Congress
END:VEVENT
END:VCALENDAR
