BEGIN:VCALENDAR
VERSION:2.0
PRODID:-//hacksw/handcal//NONSGML v1.0//EN
CALSCALE:GREGORIAN
BEGIN:VEVENT
UID:69e5fe36b3662
DTSTART:20180819T193000Z
DTSTAMP:20260420T102142Z
DTEND:20180820T193000Z
LOCATION:Rome
DESCRIPTION:Nano Tenchnology Event
URL;VALUE=URI:https://personalizedmedicine.conferenceseries.com/
SUMMARY:8th European Conference on  Predictive\, Preventive & Persona
 alized Medicine and Molecular Diagnostics
END:VEVENT
END:VCALENDAR
