BEGIN:VCALENDAR
VERSION:2.0
PRODID:-//hacksw/handcal//NONSGML v1.0//EN
CALSCALE:GREGORIAN
BEGIN:VEVENT
UID:69e674cf83f4d
DTSTART:20181202T203000Z
DTSTAMP:20260420T184743Z
DTEND:20181203T203000Z
LOCATION:Chicago
DESCRIPTION:Nano Tenchnology Event
URL;VALUE=URI:https://foodregulatory.conferenceseries.com/
SUMMARY:International Conference on  Food Technology: Quality\, Safet
 ty & Regulatory
END:VEVENT
END:VCALENDAR
