BEGIN:VCALENDAR
VERSION:2.0
PRODID:-//hacksw/handcal//NONSGML v1.0//EN
CALSCALE:GREGORIAN
BEGIN:VEVENT
UID:69e624e8cb3b5
DTSTART:20180912T193000Z
DTSTAMP:20260420T130648Z
DTEND:20180914T193000Z
LOCATION:London
DESCRIPTION:Nano Tenchnology Event
URL;VALUE=URI:https://nutrition-foodchemistry.conferenceseries.com/
SUMMARY:17th World Congress on  Nutrition and Food Chemistry
END:VEVENT
END:VCALENDAR
