BEGIN:VCALENDAR
VERSION:2.0
PRODID:-//hacksw/handcal//NONSGML v1.0//EN
CALSCALE:GREGORIAN
BEGIN:VEVENT
UID:69e5fe20e9692
DTSTART:20180722T193000Z
DTSTAMP:20260420T102120Z
DTEND:20180723T193000Z
LOCATION:Birmingham
DESCRIPTION:Nano Tenchnology Event
URL;VALUE=URI:https://neurochemistry.conferenceseries.com/
SUMMARY:24th International Conference on  Neuroscience and Neurochemi
 istry
END:VEVENT
END:VCALENDAR
