BEGIN:VCALENDAR
VERSION:2.0
PRODID:-//hacksw/handcal//NONSGML v1.0//EN
CALSCALE:GREGORIAN
BEGIN:VEVENT
UID:69e63944df988
DTSTART:20181007T203000Z
DTSTAMP:20260420T143340Z
DTEND:20181008T203000Z
LOCATION:Osaka
DESCRIPTION:Nano Tenchnology Event
URL;VALUE=URI:https://medicalinnovations.conferenceseries.com/
SUMMARY:International Conference on  Medical Innovations
END:VEVENT
END:VCALENDAR
