BEGIN:VCALENDAR
VERSION:2.0
PRODID:-//hacksw/handcal//NONSGML v1.0//EN
CALSCALE:GREGORIAN
BEGIN:VEVENT
UID:69e64cdbd06b9
DTSTART:20181101T203000Z
DTSTAMP:20260420T155715Z
DTEND:20181102T203000Z
LOCATION:Columbus
DESCRIPTION:Nano Tenchnology Event
URL;VALUE=URI:https://worldcongress.ophthalmologyconferences.com/
SUMMARY:International Conference on  Ophthalmology & Ophthalmic Surge
 ery
END:VEVENT
END:VCALENDAR
