BEGIN:VCALENDAR
VERSION:2.0
PRODID:-//hacksw/handcal//NONSGML v1.0//EN
CALSCALE:GREGORIAN
BEGIN:VEVENT
UID:69e67c25a17f6
DTSTART:20190509T193000Z
DTSTAMP:20260420T191901Z
DTEND:20190510T193000Z
LOCATION:Tokyo
DESCRIPTION:Nano Tenchnology Event
URL;VALUE=URI:https://enzymology.biochemistryconferences.com/
SUMMARY:4th International Conference on  Enzymology & Molecular Biolo
 ogy
END:VEVENT
END:VCALENDAR
