BEGIN:VCALENDAR
VERSION:2.0
PRODID:-//hacksw/handcal//NONSGML v1.0//EN
CALSCALE:GREGORIAN
BEGIN:VEVENT
UID:69e5fdb2737db
DTSTART:20180814T193000Z
DTSTAMP:20260420T101930Z
DTEND:20180815T193000Z
LOCATION:Singapore
DESCRIPTION:Nano Tenchnology Event
URL;VALUE=URI:https://oncodiagnostics.cancersummit.org/
SUMMARY:International Conference on  Cancer Research and Diagnostics
END:VEVENT
END:VCALENDAR
