BEGIN:VCALENDAR
VERSION:2.0
PRODID:-//hacksw/handcal//NONSGML v1.0//EN
CALSCALE:GREGORIAN
BEGIN:VEVENT
UID:69e5e994c179e
DTSTART:20180717T193000Z
DTSTAMP:20260420T085340Z
DTEND:20180718T193000Z
LOCATION:Atlanta
DESCRIPTION:Nano Tenchnology Event
URL;VALUE=URI:https://preventiveoncology.conferenceseries.com/
SUMMARY:4thAnnual Conference on  Preventive Oncology
END:VEVENT
END:VCALENDAR
