BEGIN:VCALENDAR
VERSION:2.0
PRODID:-//hacksw/handcal//NONSGML v1.0//EN
CALSCALE:GREGORIAN
BEGIN:VEVENT
UID:69e5fdf8539f7
DTSTART:20180801T193000Z
DTSTAMP:20260420T102040Z
DTEND:20180802T193000Z
LOCATION:Oslo
DESCRIPTION:Nano Tenchnology Event
URL;VALUE=URI:https://cancertreatment.cancersummit.org/
SUMMARY:International Conference on  Cancer Diagnosis & Treatment
END:VEVENT
END:VCALENDAR
