BEGIN:VCALENDAR
VERSION:2.0
PRODID:-//hacksw/handcal//NONSGML v1.0//EN
CALSCALE:GREGORIAN
BEGIN:VEVENT
UID:69e63944af315
DTSTART:20180923T203000Z
DTSTAMP:20260420T143340Z
DTEND:20180924T203000Z
LOCATION:Abu Dhabi
DESCRIPTION:Nano Tenchnology Event
URL;VALUE=URI:https://breast-cervical.cancersummit.org/
SUMMARY:3rd World Conference on  Breast and Cervical Cancer
END:VEVENT
END:VCALENDAR
