BEGIN:VCALENDAR
VERSION:2.0
PRODID:-//hacksw/handcal//NONSGML v1.0//EN
CALSCALE:GREGORIAN
BEGIN:VEVENT
UID:69e6241f4a3aa
DTSTART:20180916T193000Z
DTSTAMP:20260420T130327Z
DTEND:20180917T193000Z
LOCATION:San Diego
DESCRIPTION:Nano Tenchnology Event
URL;VALUE=URI:https://cancer.conferenceseries.com/
SUMMARY:28th International Conference on  Cancer Research and Antican
 ncer Therapies
END:VEVENT
END:VCALENDAR
