BEGIN:VCALENDAR
VERSION:2.0
PRODID:-//hacksw/handcal//NONSGML v1.0//EN
CALSCALE:GREGORIAN
BEGIN:VEVENT
UID:69e6747e551e3
DTSTART:20181128T203000Z
DTSTAMP:20260420T184622Z
DTEND:20181130T203000Z
LOCATION:Dublin
DESCRIPTION:Nano Tenchnology Event
URL;VALUE=URI:http://dublin.eventful.com/events/3rd-cancer-diagnostic
 cs-treatment-conference-/E0-001-115508578-7
SUMMARY:3rd Cancer Diagnostics & Treatment Conference
END:VEVENT
END:VCALENDAR
