BEGIN:VCALENDAR
VERSION:2.0
PRODID:-//hacksw/handcal//NONSGML v1.0//EN
CALSCALE:GREGORIAN
BEGIN:VEVENT
UID:69e64cdb43928
DTSTART:20181028T203000Z
DTSTAMP:20260420T155715Z
DTEND:20181029T203000Z
LOCATION:San Francisco
DESCRIPTION:Nano Tenchnology Event
URL;VALUE=URI:https://cancer.global-summit.com/america/
SUMMARY:26th Annual Congress on  Cancer Science and Targeted Therapie
 es
END:VEVENT
END:VCALENDAR
