BEGIN:VCALENDAR
VERSION:2.0
PRODID:-//hacksw/handcal//NONSGML v1.0//EN
CALSCALE:GREGORIAN
BEGIN:VEVENT
UID:69e65f92120fa
DTSTART:20181111T203000Z
DTSTAMP:20260420T171706Z
DTEND:20181112T203000Z
LOCATION:Edinburgh
DESCRIPTION:Nano Tenchnology Event
URL;VALUE=URI:https://microbiology.conferenceseries.com/
SUMMARY:5th World Congress and Expo on  Applied Microbiology
END:VEVENT
END:VCALENDAR
