BEGIN:VCALENDAR
VERSION:2.0
PRODID:-//hacksw/handcal//NONSGML v1.0//EN
CALSCALE:GREGORIAN
BEGIN:VEVENT
UID:69e639a8af22a
DTSTART:20181007T203000Z
DTSTAMP:20260420T143520Z
DTEND:20181008T203000Z
LOCATION:Zurich
DESCRIPTION:Nano Tenchnology Event
URL;VALUE=URI:https://clinicalmicrobiology.conferenceseries.com/
SUMMARY:9th International Summit on  Clinical Microbiology
END:VEVENT
END:VCALENDAR
