BEGIN:VCALENDAR
VERSION:2.0
PRODID:-//hacksw/handcal//NONSGML v1.0//EN
CALSCALE:GREGORIAN
BEGIN:VEVENT
UID:69e611b2579e3
DTSTART:20180909T193000Z
DTSTAMP:20260420T114450Z
DTEND:20180910T193000Z
LOCATION:Stockholm
DESCRIPTION:Nano Tenchnology Event
URL;VALUE=URI:https://globalbiotechnology.biotechnologycongress.com/
SUMMARY:22nd Global Biotechnology Congress
END:VEVENT
END:VCALENDAR
