BEGIN:VCALENDAR
VERSION:2.0
PRODID:-//hacksw/handcal//NONSGML v1.0//EN
CALSCALE:GREGORIAN
BEGIN:VEVENT
UID:69e611b3978f9
DTSTART:20180902T193000Z
DTSTAMP:20260420T114451Z
DTEND:20180903T193000Z
LOCATION:Tokyo
DESCRIPTION:Nano Tenchnology Event
URL;VALUE=URI:https://stemcell.geneticconferences.com/
SUMMARY:World Congress on  Stem Cell Biology and Biobanking
END:VEVENT
END:VCALENDAR
