BEGIN:VCALENDAR
VERSION:2.0
PRODID:-//hacksw/handcal//NONSGML v1.0//EN
CALSCALE:GREGORIAN
BEGIN:VEVENT
UID:69e64e5d92d93
DTSTART:20181023T203000Z
DTSTAMP:20260420T160341Z
DTEND:20181024T203000Z
LOCATION:Boston
DESCRIPTION:Nano Tenchnology Event
URL;VALUE=URI:https://www.biotechnologycongress.com/america/
SUMMARY:24th Biotechnology Congress: Research & Innovations
END:VEVENT
END:VCALENDAR
