BEGIN:VCALENDAR
VERSION:2.0
PRODID:-//hacksw/handcal//NONSGML v1.0//EN
CALSCALE:GREGORIAN
BEGIN:VEVENT
UID:69e65fa5c367e
DTSTART:20181016T203000Z
DTSTAMP:20260420T171725Z
DTEND:20181017T203000Z
LOCATION:New York
DESCRIPTION:Nano Tenchnology Event
URL;VALUE=URI:https://cellulartherapies.conferenceseries.com/
SUMMARY:Annual Congress on  Cellular Therapies\, Cancer\, Stem Cells 
  and Bio Medical Engineering
END:VEVENT
END:VCALENDAR
