BEGIN:VCALENDAR
VERSION:2.0
PRODID:-//hacksw/handcal//NONSGML v1.0//EN
CALSCALE:GREGORIAN
BEGIN:VEVENT
UID:69e6397a3a046
DTSTART:20181004T203000Z
DTSTAMP:20260420T143434Z
DTEND:20181005T203000Z
LOCATION:Osaka
DESCRIPTION:Nano Tenchnology Event
URL;VALUE=URI:https://biotechnology.biotechnologycongress.com/
SUMMARY:International Conference on  Biotechnology and Health Care
END:VEVENT
END:VCALENDAR
