BEGIN:VCALENDAR
VERSION:2.0
PRODID:-//hacksw/handcal//NONSGML v1.0//EN
CALSCALE:GREGORIAN
BEGIN:VEVENT
UID:69e62475d9324
DTSTART:20180918T193000Z
DTSTAMP:20260420T130453Z
DTEND:20180919T193000Z
LOCATION:Tokyo
DESCRIPTION:Nano Tenchnology Event
URL;VALUE=URI:https://syntheticbiology.conferenceseries.com/asiapacif
 fic/
SUMMARY:5th World Congress on  Synthetic Biology and Advanced Biomate
 erials
END:VEVENT
END:VCALENDAR
