BEGIN:VCALENDAR
VERSION:2.0
PRODID:-//hacksw/handcal//NONSGML v1.0//EN
CALSCALE:GREGORIAN
BEGIN:VEVENT
UID:69e65f63904ce
DTSTART:20181118T203000Z
DTSTAMP:20260420T171619Z
DTEND:20181119T203000Z
LOCATION:Bangkok
DESCRIPTION:Nano Tenchnology Event
URL;VALUE=URI:https://biotechnologycongress.conferenceseries.com/
SUMMARY:22nd World Congress on  Biotechnology
END:VEVENT
END:VCALENDAR
