BEGIN:VCALENDAR
VERSION:2.0
PRODID:-//hacksw/handcal//NONSGML v1.0//EN
CALSCALE:GREGORIAN
BEGIN:VEVENT
UID:69e65fa64ce1d
DTSTART:20181114T203000Z
DTSTAMP:20260420T171726Z
DTEND:20181116T203000Z
LOCATION:Berlin
DESCRIPTION:Nano Tenchnology Event
URL;VALUE=URI:https://advanced-biotechnology.biotechnologycongress.co
 om/
SUMMARY:4th International Conference on  Advances in Biotechnology an
 nd Bioscience
END:VEVENT
END:VCALENDAR
