BEGIN:VCALENDAR
VERSION:2.0
PRODID:-//hacksw/handcal//NONSGML v1.0//EN
CALSCALE:GREGORIAN
BEGIN:VEVENT
UID:69e65f918bdf6
DTSTART:20181108T203000Z
DTSTAMP:20260420T171705Z
DTEND:20181109T203000Z
LOCATION:Atlanta
DESCRIPTION:Nano Tenchnology Event
URL;VALUE=URI:https://regenerativemedicine.conferenceseries.com/
SUMMARY:2nd Annual Summit on  Cell Therapy\, Tissue Science and Regen
 nerative Medicine
END:VEVENT
END:VCALENDAR
