BEGIN:VCALENDAR
VERSION:2.0
PRODID:-//hacksw/handcal//NONSGML v1.0//EN
CALSCALE:GREGORIAN
BEGIN:VEVENT
UID:69e674d45559f
DTSTART:20181202T203000Z
DTSTAMP:20260420T184748Z
DTEND:20181203T203000Z
LOCATION:Bangkok
DESCRIPTION:Nano Tenchnology Event
URL;VALUE=URI:https://electronicengineering.enggconferences.com/
SUMMARY:5th International Conference and Exhibition on  Nanoelectroni
 ics and Advanced Intelligence Systems
END:VEVENT
END:VCALENDAR
