BEGIN:VCALENDAR
VERSION:2.0
PRODID:-//hacksw/handcal//NONSGML v1.0//EN
CALSCALE:GREGORIAN
BEGIN:VEVENT
UID:69e6747dd4885
DTSTART:20181128T203000Z
DTSTAMP:20260420T184621Z
DTEND:20181129T203000Z
LOCATION:Dublin
DESCRIPTION:Nano Tenchnology Event
URL;VALUE=URI:https://foodmicrobiology.foodtechconferences.com/
SUMMARY:3rd International Conference on  Food Microbiology & Nutritio
 on
END:VEVENT
END:VCALENDAR
