BEGIN:VCALENDAR
VERSION:2.0
PRODID:-//hacksw/handcal//NONSGML v1.0//EN
CALSCALE:GREGORIAN
BEGIN:VEVENT
UID:69e68fd64c9b3
DTSTART:20190327T193000Z
DTSTAMP:20260420T204302Z
DTEND:20190328T193000Z
LOCATION:Orlando
DESCRIPTION:Nano Tenchnology Event
URL;VALUE=URI:https://graphene.conferenceseries.com/
SUMMARY:3rd International Conference and Expo on  Graphene\, Advanced
 d 2D Materials & Semiconductors
END:VEVENT
END:VCALENDAR
