BEGIN:VCALENDAR
VERSION:2.0
PRODID:-//hacksw/handcal//NONSGML v1.0//EN
CALSCALE:GREGORIAN
BEGIN:VEVENT
UID:69e67c42961b6
DTSTART:20190424T193000Z
DTSTAMP:20260420T191930Z
DTEND:20190425T193000Z
LOCATION:Rome
DESCRIPTION:Nano Tenchnology Event
URL;VALUE=URI:https://nanomaterials.insightconferences.com/
SUMMARY:29th International Conference on  Nanomaterials and Nanotechn
 nology
END:VEVENT
END:VCALENDAR
