BEGIN:VCALENDAR
VERSION:2.0
PRODID:-//hacksw/handcal//NONSGML v1.0//EN
CALSCALE:GREGORIAN
BEGIN:VEVENT
UID:69e63c2e5c422
DTSTART:20191215T203000Z
DTSTAMP:20260420T144606Z
DTEND:20191216T203000Z
LOCATION:Dubai
DESCRIPTION:Nano Tenchnology Event
URL;VALUE=URI:https://smart.materialsconferences.com/
SUMMARY:6th World Congress on  Smart Materials and Polymer Technology
END:VEVENT
END:VCALENDAR
