BEGIN:VCALENDAR
VERSION:2.0
PRODID:-//hacksw/handcal//NONSGML v1.0//EN
CALSCALE:GREGORIAN
BEGIN:VEVENT
UID:69e68fa786f42
DTSTART:20190317T203000Z
DTSTAMP:20260420T204215Z
DTEND:20190319T203000Z
LOCATION:Edinburgh
DESCRIPTION:Nano Tenchnology Event
URL;VALUE=URI:https://novel-drugdelivery-systems.pharmaceuticalconfer
 rences.com/
SUMMARY:20th International Conference and Exhibition on  Pharmaceutic
 cs & Novel Drug Delivery Systems
END:VEVENT
END:VCALENDAR
