BEGIN:VCALENDAR
VERSION:2.0
PRODID:-//hacksw/handcal//NONSGML v1.0//EN
CALSCALE:GREGORIAN
BEGIN:VEVENT
UID:69e68facb75cf
DTSTART:20190319T203000Z
DTSTAMP:20260420T204220Z
DTEND:20190320T203000Z
LOCATION:New York
DESCRIPTION:Nano Tenchnology Event
URL;VALUE=URI:https://nanomedicine.pharmaceuticalconferences.com/usa/
SUMMARY:2nd International Conference and Exhibition on  Pharmaceutica
 al Nanotechnology and Nanomedicine
END:VEVENT
END:VCALENDAR
