BEGIN:VCALENDAR
VERSION:2.0
PRODID:-//hacksw/handcal//NONSGML v1.0//EN
CALSCALE:GREGORIAN
BEGIN:VEVENT
UID:69e6873086258
DTSTART:20190224T203000Z
DTSTAMP:20260420T200608Z
DTEND:20190225T203000Z
LOCATION:London
DESCRIPTION:Nano Tenchnology Event
URL;VALUE=URI:https://biomaterials.insightconferences.com/events-list
 t/biomaterials-and-nanotechnology
SUMMARY:4th Annual Conference and Expo on  Biomaterials
END:VEVENT
END:VCALENDAR
