BEGIN:VCALENDAR
VERSION:2.0
PRODID:-//hacksw/handcal//NONSGML v1.0//EN
CALSCALE:GREGORIAN
BEGIN:VEVENT
UID:69e61175665a5
DTSTART:20180909T193000Z
DTSTAMP:20260420T114349Z
DTEND:20180910T193000Z
LOCATION:Stockholm
DESCRIPTION:Nano Tenchnology Event
URL;VALUE=URI:https://nanotechnology.annualcongress.com/
SUMMARY:30th Annual Congress on  Nanotechnology and Nanomaterials
END:VEVENT
END:VCALENDAR
